BEGIN:VCALENDAR
VERSION:2.0
PRODID:-//eventon.com NONSGML v1.0//EN
CALSCALE:GREGORIAN
METHOD:PUBLISH
BEGIN:VEVENT
UID:69eb8dc950806
DTSTAMP:20260424T173537
DTSTART:20260418T120000Z
DTEND:20260418T213000Z
TZID:Europe/Brussels
LOCATION:
SUMMARY:Brussels Strikers CC vs 12 Stars CC-3
DESCRIPTION:\nhttps://12stars-web.azurewebsites.net/nl/events/brussels-strikers-cc-vs-12-stars-cc-3-2/
URL:https://12stars-web.azurewebsites.net/nl/events/brussels-strikers-cc-vs-12-stars-cc-3-2/
END:VEVENT
END:VCALENDAR