BEGIN:VCALENDAR
VERSION:2.0
PRODID:-//eventon.com NONSGML v1.0//EN
CALSCALE:GREGORIAN
METHOD:PUBLISH
BEGIN:VEVENT
UID:69eb8dc9a4622
DTSTAMP:20260424T173537
DTSTART:20260411T120000Z
DTEND:20260411T180000Z
TZID:Europe/Brussels
LOCATION:
SUMMARY:T20 - 12 Stars CC-1 vs Brussels Warriors-1
DESCRIPTION:\nhttps://12stars-web.azurewebsites.net/nl/events/t20-12-stars-cc-1-vs-brussels-warriors-1/
URL:https://12stars-web.azurewebsites.net/nl/events/t20-12-stars-cc-1-vs-brussels-warriors-1/
END:VEVENT
END:VCALENDAR