BEGIN:VCALENDAR
VERSION:2.0
PRODID:-//eventon.com NONSGML v1.0//EN
CALSCALE:GREGORIAN
METHOD:PUBLISH
BEGIN:VEVENT
UID:69eb7c61ef8c8
DTSTAMP:20260424T162121
DTSTART:20260426T120000Z
DTEND:20260426T170000Z
TZID:Europe/Brussels
LOCATION:
SUMMARY:T20 - Hasselt CC-2 vs 12 Stars CC-2
DESCRIPTION:\nhttps://12stars-web.azurewebsites.net/events/t20-hasselt-cc-2-vs-12-stars-cc-2/
URL:https://12stars-web.azurewebsites.net/events/t20-hasselt-cc-2-vs-12-stars-cc-2/
END:VEVENT
END:VCALENDAR